BEGIN:VCALENDAR
VERSION:2.0
PRODID:icalendar-ruby
CALSCALE:GREGORIAN
METHOD:PUBLISH
BEGIN:VEVENT
DTSTAMP:20260422T013502Z
UID:12-534786@atthetab.com
DTSTART:20261022T020000Z
DTEND:20261022T030000Z
CLASS:PUBLIC
CREATED:20260421T164800
DESCRIPTION:Wednesday Evending Worship Service
LAST-MODIFIED:20260421T164800
LOCATION:
SUMMARY:Wednesday Evending Worship Service
URL;VALUE=URI:https://www.atthetab.com/events/wednesday-evending-worship-se
 rvice/2026-10-21
END:VEVENT
END:VCALENDAR
