BEGIN:VCALENDAR
VERSION:2.0
PRODID:icalendar-ruby
CALSCALE:GREGORIAN
METHOD:PUBLISH
BEGIN:VEVENT
DTSTAMP:20260421T214723Z
UID:12-534501@atthetab.com
DTSTART:20261001T020000Z
DTEND:20261001T030000Z
CLASS:PUBLIC
CREATED:20260421T140921
DESCRIPTION:Wednesday Evending Worship Service
LAST-MODIFIED:20260421T140921
LOCATION:
SUMMARY:Wednesday Evending Worship Service
URL;VALUE=URI:https://www.atthetab.com/events/wednesday-evending-worship-se
 rvice/2026-09-30
END:VEVENT
END:VCALENDAR
