BEGIN:VCALENDAR
VERSION:2.0
PRODID:icalendar-ruby
CALSCALE:GREGORIAN
METHOD:PUBLISH
BEGIN:VEVENT
DTSTAMP:20260421T202450Z
UID:12-534218@atthetab.com
DTSTART:20260924T020000Z
DTEND:20260924T030000Z
CLASS:PUBLIC
CREATED:20260421T113248
DESCRIPTION:Wednesday Evending Worship Service
LAST-MODIFIED:20260421T113248
LOCATION:
SUMMARY:Wednesday Evending Worship Service
URL;VALUE=URI:https://www.atthetab.com/events/wednesday-evending-worship-se
 rvice/2026-09-23
END:VEVENT
END:VCALENDAR
