BEGIN:VCALENDAR
VERSION:2.0
PRODID:icalendar-ruby
CALSCALE:GREGORIAN
METHOD:PUBLISH
BEGIN:VEVENT
DTSTAMP:20260421T184158Z
UID:12-534217@atthetab.com
DTSTART:20260917T020000Z
DTEND:20260917T030000Z
CLASS:PUBLIC
CREATED:20260421T113248
DESCRIPTION:Wednesday Evending Worship Service
LAST-MODIFIED:20260421T113248
LOCATION:
SUMMARY:Wednesday Evending Worship Service
URL;VALUE=URI:https://www.atthetab.com/events/wednesday-evending-worship-se
 rvice/2026-09-16
END:VEVENT
END:VCALENDAR
