BEGIN:VCALENDAR
VERSION:2.0
PRODID:icalendar-ruby
CALSCALE:GREGORIAN
METHOD:PUBLISH
BEGIN:VEVENT
DTSTAMP:20260421T171714Z
UID:12-533934@atthetab.com
DTSTART:20260910T020000Z
DTEND:20260910T030000Z
CLASS:PUBLIC
CREATED:20260421T085353
DESCRIPTION:Wednesday Evending Worship Service
LAST-MODIFIED:20260421T085353
LOCATION:
SUMMARY:Wednesday Evending Worship Service
URL;VALUE=URI:https://www.atthetab.com/events/wednesday-evending-worship-se
 rvice/2026-09-09
END:VEVENT
END:VCALENDAR
