BEGIN:VCALENDAR
VERSION:2.0
PRODID:icalendar-ruby
CALSCALE:GREGORIAN
METHOD:PUBLISH
BEGIN:VEVENT
DTSTAMP:20260421T141822Z
UID:12-533650@atthetab.com
DTSTART:20260827T020000Z
DTEND:20260827T030000Z
CLASS:PUBLIC
CREATED:20260421T061655
DESCRIPTION:Wednesday Evending Worship Service
LAST-MODIFIED:20260421T061655
LOCATION:
SUMMARY:Wednesday Evending Worship Service
URL;VALUE=URI:https://www.atthetab.com/events/wednesday-evending-worship-se
 rvice/2026-08-26
END:VEVENT
END:VCALENDAR
