BEGIN:VCALENDAR
VERSION:2.0
PRODID:icalendar-ruby
CALSCALE:GREGORIAN
METHOD:PUBLISH
BEGIN:VEVENT
DTSTAMP:20260421T124227Z
UID:12-533367@atthetab.com
DTSTART:20260820T020000Z
DTEND:20260820T030000Z
CLASS:PUBLIC
CREATED:20260421T034100
DESCRIPTION:Wednesday Evending Worship Service
LAST-MODIFIED:20260421T034100
LOCATION:
SUMMARY:Wednesday Evending Worship Service
URL;VALUE=URI:https://www.atthetab.com/events/wednesday-evending-worship-se
 rvice/2026-08-19
END:VEVENT
END:VCALENDAR
